BEGIN:VCALENDAR
VERSION:2.0
PRODID:-//Turun Vapaa-ajattelijat - ECPv6.15.20//NONSGML v1.0//EN
CALSCALE:GREGORIAN
METHOD:PUBLISH
X-ORIGINAL-URL:https://vapaa-ajattelijat.fi/turku
X-WR-CALDESC:Tapahtumat Turun Vapaa-ajattelijat
REFRESH-INTERVAL;VALUE=DURATION:PT1H
X-Robots-Tag:noindex
X-PUBLISHED-TTL:PT1H
BEGIN:VTIMEZONE
TZID:Europe/Helsinki
BEGIN:DAYLIGHT
TZOFFSETFROM:+0200
TZOFFSETTO:+0300
TZNAME:EEST
DTSTART:20230326T010000
END:DAYLIGHT
BEGIN:STANDARD
TZOFFSETFROM:+0300
TZOFFSETTO:+0200
TZNAME:EET
DTSTART:20231029T010000
END:STANDARD
BEGIN:DAYLIGHT
TZOFFSETFROM:+0200
TZOFFSETTO:+0300
TZNAME:EEST
DTSTART:20240331T010000
END:DAYLIGHT
BEGIN:STANDARD
TZOFFSETFROM:+0300
TZOFFSETTO:+0200
TZNAME:EET
DTSTART:20241027T010000
END:STANDARD
BEGIN:DAYLIGHT
TZOFFSETFROM:+0200
TZOFFSETTO:+0300
TZNAME:EEST
DTSTART:20250330T010000
END:DAYLIGHT
BEGIN:STANDARD
TZOFFSETFROM:+0300
TZOFFSETTO:+0200
TZNAME:EET
DTSTART:20251026T010000
END:STANDARD
BEGIN:DAYLIGHT
TZOFFSETFROM:+0200
TZOFFSETTO:+0300
TZNAME:EEST
DTSTART:20260329T010000
END:DAYLIGHT
BEGIN:STANDARD
TZOFFSETFROM:+0300
TZOFFSETTO:+0200
TZNAME:EET
DTSTART:20261025T010000
END:STANDARD
BEGIN:DAYLIGHT
TZOFFSETFROM:+0200
TZOFFSETTO:+0300
TZNAME:EEST
DTSTART:20270328T010000
END:DAYLIGHT
BEGIN:STANDARD
TZOFFSETFROM:+0300
TZOFFSETTO:+0200
TZNAME:EET
DTSTART:20271031T010000
END:STANDARD
END:VTIMEZONE
BEGIN:VEVENT
DTSTART;TZID=Europe/Helsinki:20260416T180000
DTEND;TZID=Europe/Helsinki:20260416T190000
DTSTAMP:20260420T115841
CREATED:20260206T123425Z
LAST-MODIFIED:20260314T105221Z
UID:3349-1776362400-1776366000@vapaa-ajattelijat.fi
SUMMARY:Turun vapaa-ajattelijoiden lukupiiri etätapahtuma
DESCRIPTION:Tervetuloa Turun vapaa-ajattelijoiden lukupiiriin. Lukupiiri järjestetään etätapahtuma\, joten voit osallistua mistä päin Suomea tahansa. Ilmoittaudu Eero Suorsalle suorsae@gmail.com. To 16.4. keskustelemme kirjasta Mäkipelto\, Pakkala & Hakola: Jumalan synty.
URL:https://vapaa-ajattelijat.fi/turku/event/turun-vapaa-ajattelijoiden-lukupiiri-etatapahtuma-3/
END:VEVENT
BEGIN:VEVENT
DTSTART;TZID=Europe/Helsinki:20260326T180000
DTEND;TZID=Europe/Helsinki:20260326T190000
DTSTAMP:20260420T115841
CREATED:20260206T123252Z
LAST-MODIFIED:20260206T123252Z
UID:3347-1774548000-1774551600@vapaa-ajattelijat.fi
SUMMARY:Turun vapaa-ajattelijoiden lukupiiri etätapahtuma
DESCRIPTION:Tervetuloa Turun vapaa-ajattelijoiden lukupiiriin. Lukupiiri järjestetään etätapahtuma\, joten voit osallistua mistä päin Suomea tahansa. Ilmoittaudu Eero Suorsalle suorsae@gmail.com. To 26.3. keskustelemme Markku Sadelehdon toimittamasta kirjasta Outoja tarinoita 2.
URL:https://vapaa-ajattelijat.fi/turku/event/turun-vapaa-ajattelijoiden-lukupiiri-etatapahtuma-2/
LOCATION:Etätapahtuma
END:VEVENT
BEGIN:VEVENT
DTSTART;TZID=Europe/Helsinki:20260219T180000
DTEND;TZID=Europe/Helsinki:20260219T190000
DTSTAMP:20260420T115841
CREATED:20260206T123043Z
LAST-MODIFIED:20260206T123043Z
UID:3345-1771524000-1771527600@vapaa-ajattelijat.fi
SUMMARY:Turun vapaa-ajattelijoiden lukupiiri etätapahtuma
DESCRIPTION:Tervetuloa Turun vapaa-ajattelijoiden lukupiiriin. Lukupiiri järjestetään etätapahtuma\, joten voit osallistua mistä päin Suomea tahansa. Ilmoittaudu Eero Suorsalle suorsae@gmail.com. 19.2. keskustelemme Suvi Westin kirjasta Syntien Kummun naiset.
URL:https://vapaa-ajattelijat.fi/turku/event/turun-vapaa-ajattelijoiden-lukupiiri-etatapahtuma/
LOCATION:Etätapahtuma
END:VEVENT
BEGIN:VEVENT
DTSTART;TZID=Europe/Helsinki:20251112T183000
DTEND;TZID=Europe/Helsinki:20251112T200000
DTSTAMP:20260420T115841
CREATED:20251024T081038Z
LAST-MODIFIED:20251024T090140Z
UID:3302-1762972200-1762977600@vapaa-ajattelijat.fi
SUMMARY:Elämänkatsomustieto 40 vuotta
DESCRIPTION:Infotilaisuus oppiaineen sisällöstä ja kehittymisestä.\nTulevien ekaluokkalaisten vanhemmat ja kaikki aineen opiskelua harkitsevat\, tervetuloa kuulemaan ET-opettajia ja kysymään oppiaineesta.\nVapaa pääsy!
URL:https://vapaa-ajattelijat.fi/turku/event/elamankatsomustieto-40-vuotta/
LOCATION:Pääkirjasto Studio\, Linnankatu 2\, Turku\, Varsinais-Suomi\, 20100
END:VEVENT
BEGIN:VEVENT
DTSTART;TZID=Europe/Helsinki:20250918T180000
DTEND;TZID=Europe/Helsinki:20250918T200000
DTSTAMP:20260420T115841
CREATED:20250820T120613Z
LAST-MODIFIED:20250820T120613Z
UID:3290-1758218400-1758225600@vapaa-ajattelijat.fi
SUMMARY:Turun vapaa-ajattelijoiden lukupiiri
DESCRIPTION:Keskustelua Flannery O’Connorin kirjasta Palava kehä. Ilmoittautuminen Eero Suorsalle suorsae@gmail.com.
URL:https://vapaa-ajattelijat.fi/turku/event/turun-vapaa-ajattelijoiden-lukupiiri-8/
LOCATION:Etätapahtuma
END:VEVENT
BEGIN:VEVENT
DTSTART;TZID=Europe/Helsinki:20250724T180000
DTEND;TZID=Europe/Helsinki:20250724T190000
DTSTAMP:20260420T115841
CREATED:20250608T134347Z
LAST-MODIFIED:20250608T134347Z
UID:3235-1753380000-1753383600@vapaa-ajattelijat.fi
SUMMARY:Turun vapaa-ajattelijoiden lukupiiri
DESCRIPTION:Turun vapaa-ajattelijoiden lukupiiri etänä Zoomin välityksellä. Kirjana Melba Escobar: Kauneussalonki. Vetäjänä toimii kehitysvastaava Eero Suorsa. Ilmoittautuminen Eerolle sähköpostiin suorsae@gmail.com.
URL:https://vapaa-ajattelijat.fi/turku/event/turun-vapaa-ajattelijoiden-lukupiiri-7/
LOCATION:Etätapahtuma
END:VEVENT
BEGIN:VEVENT
DTSTART;TZID=Europe/Helsinki:20250626T180000
DTEND;TZID=Europe/Helsinki:20250626T190000
DTSTAMP:20260420T115841
CREATED:20250608T134218Z
LAST-MODIFIED:20250608T134218Z
UID:3232-1750960800-1750964400@vapaa-ajattelijat.fi
SUMMARY:Turun vapaa-ajttelijoiden lukupiiri
DESCRIPTION:Turun vapaa-ajattelijoiden lukupiiri etänä Zoomin välityksellä. Kirjana Susan Abulhawan Jeninin aamut. Vetäjänä toimii kehitysvastaava Eero Suorsa. Ilmoittautuminen Eerolle sähköpostiin suorsae@gmail.com.
URL:https://vapaa-ajattelijat.fi/turku/event/turun-vapaa-ajttelijoiden-lukupiiri/
LOCATION:Etätapahtuma
END:VEVENT
BEGIN:VEVENT
DTSTART;TZID=Europe/Helsinki:20250227T180000
DTEND;TZID=Europe/Helsinki:20250227T190000
DTSTAMP:20260420T115841
CREATED:20250209T110056Z
LAST-MODIFIED:20250209T110056Z
UID:3197-1740679200-1740682800@vapaa-ajattelijat.fi
SUMMARY:Turun vapaa-ajattelijoiden lukupiiri
DESCRIPTION:Turun vapaa-ajattelijoiden kevään ensimmäisessä lukupiirissä keskustellaan Stephen Jay Gouldin kirjasta Hirmulisko heinäsuovassa. Ilmoittautuminen Eero Suorsalle suorsae@gmail.com.
URL:https://vapaa-ajattelijat.fi/turku/event/turun-vapaa-ajattelijoiden-lukupiiri-6/
LOCATION:Etätapahtuma
END:VEVENT
BEGIN:VEVENT
DTSTART;TZID=Europe/Helsinki:20241121T190000
DTEND;TZID=Europe/Helsinki:20241121T203000
DTSTAMP:20260420T115841
CREATED:20241107T153009Z
LAST-MODIFIED:20241107T153009Z
UID:3109-1732215600-1732221000@vapaa-ajattelijat.fi
SUMMARY:Turun vapaa-ajattelijoiden lukupiiri
DESCRIPTION:Turun vaparien lukupiirissä to 21.11. klo 19 Jean Genetin Kukkien Madonna \nGenetin esikoisromaani\, jonka hän kirjoitti vankilassa ollessaan. Nuoruudessaan varkaana toiminut Genet kirjoitti hyvin tuntemastaan varkaiden ja murhamiesten maailmasta löytäen sieltä kauneutta ja elämää. \nKannattaa varata kirja nopeasti kirjastosta\, jotta saa sen. Myös antikoista voi löytää tämän helmen. \nIlmoittautuminen Eero Suorsalle suorsae@gmail.com.
URL:https://vapaa-ajattelijat.fi/turku/event/turun-vapaa-ajattelijoiden-lukupiiri-5/
END:VEVENT
BEGIN:VEVENT
DTSTART;TZID=Europe/Helsinki:20241024T190000
DTEND;TZID=Europe/Helsinki:20241024T203000
DTSTAMP:20260420T115841
CREATED:20241009T161238Z
LAST-MODIFIED:20241009T161238Z
UID:3103-1729796400-1729801800@vapaa-ajattelijat.fi
SUMMARY:Filosofista pohdintaa kirjallisuudesta
DESCRIPTION:Turun vapaa-ajattelijoiden lukupiiri kokoontuu seuraavan kerran torstaina 24.10. klo 19 läsnäolotapaamisena\, kirjana Jean-Paul Sartren Mitä kirjallisuus on?\nIlmoittautumiset Eerolle osoitteeseen suorsae@gmail.com.
URL:https://vapaa-ajattelijat.fi/turku/event/filosofista-pohdintaa-kirjallisuudesta/
END:VEVENT
BEGIN:VEVENT
DTSTART;TZID=Europe/Helsinki:20241003T170000
DTEND;TZID=Europe/Helsinki:20241003T190000
DTSTAMP:20260420T115841
CREATED:20240924T044253Z
LAST-MODIFIED:20240924T044253Z
UID:3094-1727974800-1727982000@vapaa-ajattelijat.fi
SUMMARY:Jori Mäntysalo Turussa
DESCRIPTION:
URL:https://vapaa-ajattelijat.fi/turku/event/jori-mantysalo-turussa/
LOCATION:Cafe Art\, Läntinen Rantakatu 5\, Turku
END:VEVENT
BEGIN:VEVENT
DTSTART;TZID=Europe/Helsinki:20240926T190000
DTEND;TZID=Europe/Helsinki:20240926T203000
DTSTAMP:20260420T115841
CREATED:20240906T100759Z
LAST-MODIFIED:20240906T100759Z
UID:3064-1727377200-1727382600@vapaa-ajattelijat.fi
SUMMARY:Turun vapaa-ajattelijoiden lukupiiri
DESCRIPTION:Torstain 26.9. läsnäolotapaamisessa keskustellaan Otto Gabrielssonin kirjasta: Rikkaruoho. Viimeinen kirje isälle. Paikka ilmoitetaan ilmoittautuneille.
URL:https://vapaa-ajattelijat.fi/turku/event/turun-vapaa-ajattelijoiden-lukupiiri-4/
END:VEVENT
BEGIN:VEVENT
DTSTART;TZID=Europe/Helsinki:20240828T170000
DTEND;TZID=Europe/Helsinki:20240828T183000
DTSTAMP:20260420T115841
CREATED:20240822T113808Z
LAST-MODIFIED:20240822T113808Z
UID:3043-1724864400-1724869800@vapaa-ajattelijat.fi
SUMMARY:Keskustelutilaisuus Transkulttuurinen tuotanto
DESCRIPTION:Dosentti Lotta Kähkönen. Transkulttuurinen tuotanto: sukupuolen moninaisuus\, kuvittelu ja maailmanluominen.
URL:https://vapaa-ajattelijat.fi/turku/event/keskustelutilaisuus-transkulttuurinen-tuotanto/
LOCATION:Ravintola koulu\, historian luokka\, Turku
END:VEVENT
BEGIN:VEVENT
DTSTART;TZID=Europe/Helsinki:20240627T180000
DTEND;TZID=Europe/Helsinki:20240627T200000
DTSTAMP:20260420T115841
CREATED:20240619T100250Z
LAST-MODIFIED:20240619T100250Z
UID:3027-1719511200-1719518400@vapaa-ajattelijat.fi
SUMMARY:Turun vapaa-ajattelijoiden lukupiiri
DESCRIPTION:Kevätkauden lukupiirin päättää Douglas Stuartin Nuori Mungo. Kokoonnumme etänä torstaina 27.6. klo 18. Lukupiiri avoin kaikille vapareille\, tervetuloa!
URL:https://vapaa-ajattelijat.fi/turku/event/turun-vapaa-ajattelijoiden-lukupiiri-3/
END:VEVENT
BEGIN:VEVENT
DTSTART;TZID=Europe/Helsinki:20240328T180000
DTEND;TZID=Europe/Helsinki:20240328T193000
DTSTAMP:20260420T115841
CREATED:20240307T181444Z
LAST-MODIFIED:20240307T181444Z
UID:2999-1711648800-1711654200@vapaa-ajattelijat.fi
SUMMARY:Lukupiirissä Akwaeke Emezin Rakas Senthuran
DESCRIPTION:Turun vapareiden lukupiiri kokoontuu etänä to 28.3. klo 18\, kirjana Akwaeke Emezi: Rakas Senthuran – Mustan hengen muistelmat. Ilmoittautumiset puheenjohtaja.turku@vapaa-ajattelijat.fi. Tervetuloa vaparit läheltä ja kaukaa!
URL:https://vapaa-ajattelijat.fi/turku/event/lukupiirissa-akwaeke-emezin-rakas-senthuran/
END:VEVENT
BEGIN:VEVENT
DTSTART;TZID=Europe/Helsinki:20240229T180000
DTEND;TZID=Europe/Helsinki:20240229T200000
DTSTAMP:20260420T115841
CREATED:20240204T070118Z
LAST-MODIFIED:20240204T070118Z
UID:2994-1709229600-1709236800@vapaa-ajattelijat.fi
SUMMARY:Turun vapaa-ajattelijoiden lukupiiri
DESCRIPTION:Turun vapareiden lukupiiri kokoontuu etänä to 29.2. klo 18\, kirjana Immanuel Kant: Puhtaan järjen kritiikki. Ilmoittautumiset puheenjohtaja.turku@vapaa-ajattelijat.fi. Tervetuloa vaparit läheltä ja kaukaa!
URL:https://vapaa-ajattelijat.fi/turku/event/turun-vapaa-ajattelijoiden-lukupiiri-2/
END:VEVENT
BEGIN:VEVENT
DTSTART;TZID=Europe/Helsinki:20240125T180000
DTEND;TZID=Europe/Helsinki:20240125T200000
DTSTAMP:20260420T115841
CREATED:20240108T145422Z
LAST-MODIFIED:20240119T135458Z
UID:2946-1706205600-1706212800@vapaa-ajattelijat.fi
SUMMARY:Turun vapaa-ajattelijoiden lukupiiri
DESCRIPTION:Kirja käteen\, silmät liikkumaan ja ajatus vapaaksi!\nTurun vapaa-ajattelijoiden kevään lukupiiri alkaa tapaamisella tammikuussa. Keskustelemme Patrick Radden Keefen kirjasta Kivun valtakunta. Lisätietoja yhdistyksen verkkosivuilla.
URL:https://vapaa-ajattelijat.fi/turku/event/turun-vapaa-ajattelijoiden-lukupiiri/
END:VEVENT
END:VCALENDAR