BEGIN:VCALENDAR
VERSION:2.0
PRODID:-//Turun Vapaa-ajattelijat - ECPv6.15.20//NONSGML v1.0//EN
CALSCALE:GREGORIAN
METHOD:PUBLISH
X-ORIGINAL-URL:https://vapaa-ajattelijat.fi/turku
X-WR-CALDESC:Tapahtumat Turun Vapaa-ajattelijat
REFRESH-INTERVAL;VALUE=DURATION:PT1H
X-Robots-Tag:noindex
X-PUBLISHED-TTL:PT1H
BEGIN:VTIMEZONE
TZID:Europe/Helsinki
BEGIN:DAYLIGHT
TZOFFSETFROM:+0200
TZOFFSETTO:+0300
TZNAME:EEST
DTSTART:20240331T010000
END:DAYLIGHT
BEGIN:STANDARD
TZOFFSETFROM:+0300
TZOFFSETTO:+0200
TZNAME:EET
DTSTART:20241027T010000
END:STANDARD
BEGIN:DAYLIGHT
TZOFFSETFROM:+0200
TZOFFSETTO:+0300
TZNAME:EEST
DTSTART:20250330T010000
END:DAYLIGHT
BEGIN:STANDARD
TZOFFSETFROM:+0300
TZOFFSETTO:+0200
TZNAME:EET
DTSTART:20251026T010000
END:STANDARD
BEGIN:DAYLIGHT
TZOFFSETFROM:+0200
TZOFFSETTO:+0300
TZNAME:EEST
DTSTART:20260329T010000
END:DAYLIGHT
BEGIN:STANDARD
TZOFFSETFROM:+0300
TZOFFSETTO:+0200
TZNAME:EET
DTSTART:20261025T010000
END:STANDARD
END:VTIMEZONE
BEGIN:VEVENT
DTSTART;TZID=Europe/Helsinki:20250626T180000
DTEND;TZID=Europe/Helsinki:20250626T190000
DTSTAMP:20260424T030805
CREATED:20250608T134218Z
LAST-MODIFIED:20250608T134218Z
UID:3232-1750960800-1750964400@vapaa-ajattelijat.fi
SUMMARY:Turun vapaa-ajttelijoiden lukupiiri
DESCRIPTION:Turun vapaa-ajattelijoiden lukupiiri etänä Zoomin välityksellä. Kirjana Susan Abulhawan Jeninin aamut. Vetäjänä toimii kehitysvastaava Eero Suorsa. Ilmoittautuminen Eerolle sähköpostiin suorsae@gmail.com.
URL:https://vapaa-ajattelijat.fi/turku/event/turun-vapaa-ajttelijoiden-lukupiiri/
LOCATION:Etätapahtuma
END:VEVENT
END:VCALENDAR