BEGIN:VCALENDAR
VERSION:2.0
PRODID:-//Turun Vapaa-ajattelijat - ECPv6.15.20//NONSGML v1.0//EN
CALSCALE:GREGORIAN
METHOD:PUBLISH
X-ORIGINAL-URL:https://vapaa-ajattelijat.fi/turku
X-WR-CALDESC:Tapahtumat Turun Vapaa-ajattelijat
REFRESH-INTERVAL;VALUE=DURATION:PT1H
X-Robots-Tag:noindex
X-PUBLISHED-TTL:PT1H
BEGIN:VTIMEZONE
TZID:Europe/Helsinki
BEGIN:DAYLIGHT
TZOFFSETFROM:+0200
TZOFFSETTO:+0300
TZNAME:EEST
DTSTART:20240331T010000
END:DAYLIGHT
BEGIN:STANDARD
TZOFFSETFROM:+0300
TZOFFSETTO:+0200
TZNAME:EET
DTSTART:20241027T010000
END:STANDARD
BEGIN:DAYLIGHT
TZOFFSETFROM:+0200
TZOFFSETTO:+0300
TZNAME:EEST
DTSTART:20250330T010000
END:DAYLIGHT
BEGIN:STANDARD
TZOFFSETFROM:+0300
TZOFFSETTO:+0200
TZNAME:EET
DTSTART:20251026T010000
END:STANDARD
BEGIN:DAYLIGHT
TZOFFSETFROM:+0200
TZOFFSETTO:+0300
TZNAME:EEST
DTSTART:20260329T010000
END:DAYLIGHT
BEGIN:STANDARD
TZOFFSETFROM:+0300
TZOFFSETTO:+0200
TZNAME:EET
DTSTART:20261025T010000
END:STANDARD
END:VTIMEZONE
BEGIN:VEVENT
DTSTART;TZID=Europe/Helsinki:20250724T180000
DTEND;TZID=Europe/Helsinki:20250724T190000
DTSTAMP:20260422T043958
CREATED:20250608T134347Z
LAST-MODIFIED:20250608T134347Z
UID:3235-1753380000-1753383600@vapaa-ajattelijat.fi
SUMMARY:Turun vapaa-ajattelijoiden lukupiiri
DESCRIPTION:Turun vapaa-ajattelijoiden lukupiiri etänä Zoomin välityksellä. Kirjana Melba Escobar: Kauneussalonki. Vetäjänä toimii kehitysvastaava Eero Suorsa. Ilmoittautuminen Eerolle sähköpostiin suorsae@gmail.com.
URL:https://vapaa-ajattelijat.fi/turku/event/turun-vapaa-ajattelijoiden-lukupiiri-7/
LOCATION:Etätapahtuma
END:VEVENT
END:VCALENDAR