BEGIN:VCALENDAR
VERSION:2.0
PRODID:-//Tampereen vapaa-ajattelijat - ECPv6.15.20//NONSGML v1.0//EN
CALSCALE:GREGORIAN
METHOD:PUBLISH
X-WR-CALNAME:Tampereen vapaa-ajattelijat
X-ORIGINAL-URL:https://vapaa-ajattelijat.fi/tampere
X-WR-CALDESC:Tapahtumat Tampereen vapaa-ajattelijat
REFRESH-INTERVAL;VALUE=DURATION:PT1H
X-Robots-Tag:noindex
X-PUBLISHED-TTL:PT1H
BEGIN:VTIMEZONE
TZID:Europe/Helsinki
BEGIN:DAYLIGHT
TZOFFSETFROM:+0200
TZOFFSETTO:+0300
TZNAME:EEST
DTSTART:20210328T010000
END:DAYLIGHT
BEGIN:STANDARD
TZOFFSETFROM:+0300
TZOFFSETTO:+0200
TZNAME:EET
DTSTART:20211031T010000
END:STANDARD
BEGIN:DAYLIGHT
TZOFFSETFROM:+0200
TZOFFSETTO:+0300
TZNAME:EEST
DTSTART:20220327T010000
END:DAYLIGHT
BEGIN:STANDARD
TZOFFSETFROM:+0300
TZOFFSETTO:+0200
TZNAME:EET
DTSTART:20221030T010000
END:STANDARD
BEGIN:DAYLIGHT
TZOFFSETFROM:+0200
TZOFFSETTO:+0300
TZNAME:EEST
DTSTART:20230326T010000
END:DAYLIGHT
BEGIN:STANDARD
TZOFFSETFROM:+0300
TZOFFSETTO:+0200
TZNAME:EET
DTSTART:20231029T010000
END:STANDARD
END:VTIMEZONE
BEGIN:VEVENT
DTSTART;TZID=Europe/Helsinki:20220407T180000
DTEND;TZID=Europe/Helsinki:20220407T210000
DTSTAMP:20260420T135000
CREATED:20220310T102158Z
LAST-MODIFIED:20220310T102158Z
UID:654-1649354400-1649365200@vapaa-ajattelijat.fi
SUMMARY:Baari-ilta: Eläinoikeusliikkeen ja vapaa-ajattelijoiden toimintatavat
DESCRIPTION:Omaa toimintaa on hyvä peilata välillä muihin aatteisiin\, joista yksi on eläinoikeusliike. Mitä järjestöjä sen piirissä toimii\, mitkä ovat toimintatavat? Missä on onnistuttu\, missä ei? Löytyykö aatteista muuta analogiaa? \nAiheesta tulee alustamaan torstaina 7.4.2022 pidettävään baari-iltaan Eläinoikeuspuolueen aktiivi Lila Lähde. \nBaari on varattu kello 18 alkaen\, alustus kello 18:30. Paikkana on Gastropub Nordic\, joka löytyy Otavalankadulta vastapäätä Koskikeskusta. Illat jatkuvat neljän viikon välein\, tätä seuraava siis torstaina 5.5.2022.
URL:https://vapaa-ajattelijat.fi/tampere/tapahtuma/elainoikeusliike/
LOCATION:Gastropub Nordic\, Otavalankatu 3\, Tampere\, Finland
CATEGORIES:baari-ilta
END:VEVENT
BEGIN:VEVENT
DTSTART;TZID=Europe/Helsinki:20220427T180000
DTEND;TZID=Europe/Helsinki:20220427T200000
DTSTAMP:20260420T135000
CREATED:20220329T090939Z
LAST-MODIFIED:20220329T090939Z
UID:662-1651082400-1651089600@vapaa-ajattelijat.fi
SUMMARY:Sääntömääräinen kevätkokous
DESCRIPTION:
URL:https://vapaa-ajattelijat.fi/tampere/tapahtuma/saantomaarainen-kevatkokous/
CATEGORIES:kokous
END:VEVENT
END:VCALENDAR