BEGIN:VCALENDAR
VERSION:2.0
PRODID:-//Tampereen vapaa-ajattelijat - ECPv6.15.20//NONSGML v1.0//EN
CALSCALE:GREGORIAN
METHOD:PUBLISH
X-ORIGINAL-URL:https://vapaa-ajattelijat.fi/tampere
X-WR-CALDESC:Tapahtumat Tampereen vapaa-ajattelijat
REFRESH-INTERVAL;VALUE=DURATION:PT1H
X-Robots-Tag:noindex
X-PUBLISHED-TTL:PT1H
BEGIN:VTIMEZONE
TZID:Europe/Helsinki
BEGIN:DAYLIGHT
TZOFFSETFROM:+0200
TZOFFSETTO:+0300
TZNAME:EEST
DTSTART:20210328T010000
END:DAYLIGHT
BEGIN:STANDARD
TZOFFSETFROM:+0300
TZOFFSETTO:+0200
TZNAME:EET
DTSTART:20211031T010000
END:STANDARD
BEGIN:DAYLIGHT
TZOFFSETFROM:+0200
TZOFFSETTO:+0300
TZNAME:EEST
DTSTART:20220327T010000
END:DAYLIGHT
BEGIN:STANDARD
TZOFFSETFROM:+0300
TZOFFSETTO:+0200
TZNAME:EET
DTSTART:20221030T010000
END:STANDARD
BEGIN:DAYLIGHT
TZOFFSETFROM:+0200
TZOFFSETTO:+0300
TZNAME:EEST
DTSTART:20230326T010000
END:DAYLIGHT
BEGIN:STANDARD
TZOFFSETFROM:+0300
TZOFFSETTO:+0200
TZNAME:EET
DTSTART:20231029T010000
END:STANDARD
END:VTIMEZONE
BEGIN:VEVENT
DTSTART;TZID=Europe/Helsinki:20220310T180000
DTEND;TZID=Europe/Helsinki:20220310T210000
DTSTAMP:20260422T122313
CREATED:20211008T122742Z
LAST-MODIFIED:20220310T115310Z
UID:564-1646935200-1646946000@vapaa-ajattelijat.fi
SUMMARY:Baari-ilta: Onko taloustiede tiedettä
DESCRIPTION:Maaliskuussa alustuksen otsikkona on ”Onko taloustiede tiedettä?”\, ja siitä tulee meille kertomaan Olli Herranen. \nPaikka on tavalliseen tapaan Gastropub Nordic Otavalankadulla\, löytyy Koskikeskusta vastapäätä. Baari on varattu kello 18 alkaen\, alustus alkaa 18:30. \nMeidät löytää baarin takaosan kabinetista. Ei tarvitse ilmoittautua ennakkoon. Joistakin tuotteista saa illalla pienen alennuksen kun kertoo tiskillä olevansa vapaa-ajattelija. \nIltaan voi etäosallistua: www.youtube.com/channel/UCz0wA-tgLo3j-qXp3VAoh9A \nIllat jatkuvat neljän viikon välein eli seuraava kerta on 7.4.2022.
URL:https://vapaa-ajattelijat.fi/tampere/tapahtuma/onko-taloustiede-tiedetta/
LOCATION:Gastropub Nordic\, Otavalankatu 3\, Tampere\, Finland
CATEGORIES:baari-ilta
END:VEVENT
END:VCALENDAR