BEGIN:VCALENDAR
VERSION:2.0
PRODID:-//Tampereen vapaa-ajattelijat - ECPv6.15.20//NONSGML v1.0//EN
CALSCALE:GREGORIAN
METHOD:PUBLISH
X-WR-CALNAME:Tampereen vapaa-ajattelijat
X-ORIGINAL-URL:https://vapaa-ajattelijat.fi/tampere
X-WR-CALDESC:Tapahtumat Tampereen vapaa-ajattelijat
REFRESH-INTERVAL;VALUE=DURATION:PT1H
X-Robots-Tag:noindex
X-PUBLISHED-TTL:PT1H
BEGIN:VTIMEZONE
TZID:Europe/Helsinki
BEGIN:DAYLIGHT
TZOFFSETFROM:+0200
TZOFFSETTO:+0300
TZNAME:EEST
DTSTART:20210328T010000
END:DAYLIGHT
BEGIN:STANDARD
TZOFFSETFROM:+0300
TZOFFSETTO:+0200
TZNAME:EET
DTSTART:20211031T010000
END:STANDARD
BEGIN:DAYLIGHT
TZOFFSETFROM:+0200
TZOFFSETTO:+0300
TZNAME:EEST
DTSTART:20220327T010000
END:DAYLIGHT
BEGIN:STANDARD
TZOFFSETFROM:+0300
TZOFFSETTO:+0200
TZNAME:EET
DTSTART:20221030T010000
END:STANDARD
BEGIN:DAYLIGHT
TZOFFSETFROM:+0200
TZOFFSETTO:+0300
TZNAME:EEST
DTSTART:20230326T010000
END:DAYLIGHT
BEGIN:STANDARD
TZOFFSETFROM:+0300
TZOFFSETTO:+0200
TZNAME:EET
DTSTART:20231029T010000
END:STANDARD
END:VTIMEZONE
BEGIN:VEVENT
DTSTART;TZID=Europe/Helsinki:20220210T180000
DTEND;TZID=Europe/Helsinki:20220210T220000
DTSTAMP:20260422T141331
CREATED:20211126T112331Z
LAST-MODIFIED:20220129T180101Z
UID:605-1644516000-1644530400@vapaa-ajattelijat.fi
SUMMARY:Baari-ilta tai kävelyretki
DESCRIPTION:Helmikuun baari-ilta pidetään\, jos pidetään\, torstaina 10.2.2022 ja paikka on tavalliseen tapaan Gastropub Nordic Otavalankadulla\, Koskikeskusta vastapäätä. Baari on varattu kello 18 alkaen. \nJos ei ole baari-iltaa\, on kävelyretki Kalevankankaalla. \nKokoontumiset jatkuvat neljän viikon välein eli seuraava kerta on 10.3.2022. Silloin baari-illan alustuksen aiheena ”Onko taloustiede tiedettä?” \n 
URL:https://vapaa-ajattelijat.fi/tampere/tapahtuma/baari-helmikuu-2022/
LOCATION:Gastropub Nordic\, Otavalankatu 3\, Tampere\, Finland
CATEGORIES:baari-ilta
END:VEVENT
END:VCALENDAR