BEGIN:VCALENDAR
VERSION:2.0
PRODID:-//Tampereen vapaa-ajattelijat - ECPv6.15.20//NONSGML v1.0//EN
CALSCALE:GREGORIAN
METHOD:PUBLISH
X-WR-CALNAME:Tampereen vapaa-ajattelijat
X-ORIGINAL-URL:https://vapaa-ajattelijat.fi/tampere
X-WR-CALDESC:Tapahtumat Tampereen vapaa-ajattelijat
REFRESH-INTERVAL;VALUE=DURATION:PT1H
X-Robots-Tag:noindex
X-PUBLISHED-TTL:PT1H
BEGIN:VTIMEZONE
TZID:Europe/Helsinki
BEGIN:DAYLIGHT
TZOFFSETFROM:+0200
TZOFFSETTO:+0300
TZNAME:EEST
DTSTART:20200329T010000
END:DAYLIGHT
BEGIN:STANDARD
TZOFFSETFROM:+0300
TZOFFSETTO:+0200
TZNAME:EET
DTSTART:20201025T010000
END:STANDARD
BEGIN:DAYLIGHT
TZOFFSETFROM:+0200
TZOFFSETTO:+0300
TZNAME:EEST
DTSTART:20210328T010000
END:DAYLIGHT
BEGIN:STANDARD
TZOFFSETFROM:+0300
TZOFFSETTO:+0200
TZNAME:EET
DTSTART:20211031T010000
END:STANDARD
BEGIN:DAYLIGHT
TZOFFSETFROM:+0200
TZOFFSETTO:+0300
TZNAME:EEST
DTSTART:20220327T010000
END:DAYLIGHT
BEGIN:STANDARD
TZOFFSETFROM:+0300
TZOFFSETTO:+0200
TZNAME:EET
DTSTART:20221030T010000
END:STANDARD
END:VTIMEZONE
BEGIN:VEVENT
DTSTART;TZID=Europe/Helsinki:20211202T180000
DTEND;TZID=Europe/Helsinki:20211202T210000
DTSTAMP:20260422T182122
CREATED:20210706T150523Z
LAST-MODIFIED:20211201T171058Z
UID:525-1638468000-1638478800@vapaa-ajattelijat.fi
SUMMARY:Baari-ilta: Uskoon tulleet ex-rikolliset
DESCRIPTION:Joulukuun baari-illassa kaksi uskoon tullutta ex-rikollista haastaa vapaa-ajattelijoiden käsityksiä. \nPekka Matilainen on Vapaakirkon diakoniajärjestö ViaDian toiminnanjohtaja. Hänet tuomittiin vuonna 1999 huumausainerikoksista. Lauri ”Late” Johansson on Suomen kenties tunnetuin ex-rikollinen\, joka tuli uskoon suorittaessaan tuomiota murhasta\, ja tunnusti tämän jälkeen kaksi aiempaa murhaa. \nBaari on varattu kello 18 alkaen\, alustus alkaa 18:30. \nLivestriimiin pääset tästä \nEnsin vuoden kevätkauden illat alkavat 13.1.2022\, alustuksen aihe on ”Onko taloustiede tiedettä” ja siitä kertoo Olli Herranen. Tämän jälkeen illat jatkuvat neljän viikon välein.
URL:https://vapaa-ajattelijat.fi/tampere/tapahtuma/baari-ilta-ex-rikolliset/
LOCATION:Gastropub Nordic\, Otavalankatu 3\, Tampere\, Finland
CATEGORIES:baari-ilta
END:VEVENT
BEGIN:VEVENT
DTSTART;TZID=Europe/Helsinki:20211215T180000
DTEND;TZID=Europe/Helsinki:20211215T220000
DTSTAMP:20260422T182122
CREATED:20210922T183221Z
LAST-MODIFIED:20211205T101407Z
UID:560-1639591200-1639605600@vapaa-ajattelijat.fi
SUMMARY:Vuosikokous\, glögiä ja piparia
DESCRIPTION:Yhdistyksen mitä virallisin vuosikokous pidetään keskiviikkona 15.12.2021 kello 18.00 alkaen yhdistyksen toimistolla. Asialistalla ”sääntömääräiset asiat” eli käytännössä tulevan vuoden hallituksen valinta + talousarvio ja toimintasuunnitelma. \nKokouksen jälkeen pientä tai ehkä jopa keskikokoista tarjoilua.
URL:https://vapaa-ajattelijat.fi/tampere/tapahtuma/vuosikokous-glogia-ja-piparia/
LOCATION:Vapaaklubi\, Yliopistonkatu 58 B (6. kerros)\, Tampere\, 33100
CATEGORIES:kokous
END:VEVENT
BEGIN:VEVENT
DTSTART;TZID=Europe/Helsinki:20211227T140000
DTEND;TZID=Europe/Helsinki:20211227T163000
DTSTAMP:20260422T182122
CREATED:20211219T100445Z
LAST-MODIFIED:20211227T112002Z
UID:622-1640613600-1640622600@vapaa-ajattelijat.fi
SUMMARY:Kinkunsulatuskävely Iidesjärven ympäri
DESCRIPTION:Vuoden viimeisenä tapahtumana kinkunsulatuskävely maanantaina 27.12.2021. Kokoonnutaan osoitteeseen Turjankatu 6\, A-rapun eteen kello 14. Kävellään Iidesjärven ympäri leppoisaan tahtiin noin kuusi kilometriä. \nKävelyn jälkeen väistyvä puheenjohtaja tarjoaa lämmintä glögiä. \nEnnakkoilmoittautumista ei tarvita\, mutta jos tulee myöhässä\, kannattaa soittaa Jori Mäntysalo / 045 7872 5953.
URL:https://vapaa-ajattelijat.fi/tampere/tapahtuma/kinkunsulatuskavely-iidesjarven-ympari/
LOCATION:Turjankatu 6
CATEGORIES:kävelyretki
END:VEVENT
END:VCALENDAR