BEGIN:VCALENDAR
VERSION:2.0
PRODID:-//Tampereen vapaa-ajattelijat - ECPv6.15.20//NONSGML v1.0//EN
CALSCALE:GREGORIAN
METHOD:PUBLISH
X-WR-CALNAME:Tampereen vapaa-ajattelijat
X-ORIGINAL-URL:https://vapaa-ajattelijat.fi/tampere
X-WR-CALDESC:Tapahtumat Tampereen vapaa-ajattelijat
REFRESH-INTERVAL;VALUE=DURATION:PT1H
X-Robots-Tag:noindex
X-PUBLISHED-TTL:PT1H
BEGIN:VTIMEZONE
TZID:Europe/Helsinki
BEGIN:DAYLIGHT
TZOFFSETFROM:+0200
TZOFFSETTO:+0300
TZNAME:EEST
DTSTART:20200329T010000
END:DAYLIGHT
BEGIN:STANDARD
TZOFFSETFROM:+0300
TZOFFSETTO:+0200
TZNAME:EET
DTSTART:20201025T010000
END:STANDARD
BEGIN:DAYLIGHT
TZOFFSETFROM:+0200
TZOFFSETTO:+0300
TZNAME:EEST
DTSTART:20210328T010000
END:DAYLIGHT
BEGIN:STANDARD
TZOFFSETFROM:+0300
TZOFFSETTO:+0200
TZNAME:EET
DTSTART:20211031T010000
END:STANDARD
BEGIN:DAYLIGHT
TZOFFSETFROM:+0200
TZOFFSETTO:+0300
TZNAME:EEST
DTSTART:20220327T010000
END:DAYLIGHT
BEGIN:STANDARD
TZOFFSETFROM:+0300
TZOFFSETTO:+0200
TZNAME:EET
DTSTART:20221030T010000
END:STANDARD
END:VTIMEZONE
BEGIN:VEVENT
DTSTART;TZID=Europe/Helsinki:20210811T160000
DTEND;TZID=Europe/Helsinki:20210811T220000
DTSTAMP:20260423T015738
CREATED:20210805T070947Z
LAST-MODIFIED:20210805T070947Z
UID:549-1628697600-1628719200@vapaa-ajattelijat.fi
SUMMARY:Vaparit tuuliajolla
DESCRIPTION:Keskiviikkona 11.8. lähdemme kahdella Tampereen vaparien purjehtivan jäsenen veneellä Näsijärvelle. Lähtö on kello 16\, voidaan hieman venyttää lähtöä\, jos jollekin osallistujalle tekee tiukkaa\, mutta että ehdimme Pimeeseen ja takaisin ennen kuin valot sammuvat taivaalta\, olisi hyvä olla mahdollisimman ajoissa liikkeellä. \nMukaan mahtuu kymmenen ensimmäisenä ilmoittatunutta. Tilaisuuden ilmoittautumisohje on tullut sähköpostilla 1.8.; lähetä viestiä ellei postia ole tullut. \nLähtö on Naistenlahdesta\, Tampereen pursiseuran seuramajan edestä. Osoite on Kekkosenkatu 10 ja saapumisohjeet löytyvät seuran sivuilta: https://www.taps.fi/pursiseura/ajo-ohjeet/ \nMukaan säänmukainen varustus ja jos sää on liian sateinen tai on ukkosta\, pitää purjehdusta siirtää\, koska myrskyyn ei purjehtija koskaan lähde. Pientä tihkua emme pelkää ja molemmissa veneissä voi myös olla sisätiloissa\, kuivassa ja lämpimässä kajuutassa. \nKummassakin veneessä on riittävästi pelastusliivejä kaikille osallistujille\, joten sellaisia ei tarvitse ottaa mukaan\, mutta jos omistaa jolla- tai paukkuliivit\, ne voi ottaa halutessaan. Oransseja Rukka-mallisia\, niskatuellisia liivejä ei kannata purjeveneeseen tuoda\, koska ne estävät veneessä liikkumisen. \nMatka Pimeesalmen Telakalle kestää parisen tuntia ja saman verran takaisin. Eli kannattaa varautua siihen\, että olemme aika myöhään perillä. Matkanopeuteen vaikuttaa eniten tuulen suunta ja voimakkuus. \nPerillä Pimeessä on ravintola\, jonka ruokalistan näkee sivulta https://pimeesalmi.fi/ruokalista/. Ruokailemme kukin omalla kustannuksella. Kummassakin veneessä on myös jääkaapit\, joten mukaan voi ottaa myös omia eväitä.
URL:https://vapaa-ajattelijat.fi/tampere/tapahtuma/vaparit-tuuliajolla/
CATEGORIES:purjehdus
END:VEVENT
BEGIN:VEVENT
DTSTART;TZID=Europe/Helsinki:20210812T180000
DTEND;TZID=Europe/Helsinki:20210812T210000
DTSTAMP:20260423T015738
CREATED:20210706T145805Z
LAST-MODIFIED:20210812T134435Z
UID:518-1628791200-1628802000@vapaa-ajattelijat.fi
SUMMARY:Baari-ilta: Tietokone ja tietoisuus
DESCRIPTION:Elokuun baari-illassa alustu pyörii tietokoneen\, älykkyyden ja tietoisuuden kysymyksissä. Torstaina 12.8. aiheesta alustaa tohtori Jari Yli-Hietanen. \nPaikka on tavalliseen tapaan Gastropub Nordic Otavalankadulla\, löytyy Koskikeskusta vastapäätä. Baari on varattu kello 18 alkaen\, alustus alkaa 18:30. \nMeidät löytää baarin takaosan kabinetista. Ei tarvitse ilmoittautua ennakkoon. Joistakin tuotteista saa illalla pienen alennuksen kun kertoo tiskillä olevansa vapaa-ajattelija. \nTilaisuuteen voi osallistua myös etäyhteydellä ja esittää kysymyksiä bittipiuhan välityksellä: https://www.youtube.com/watch?v=lhbWwDFVuqw. \nIllat jatkuvat neljän viikon välein eli seuraava kerta on 9. syyskuuta. Tällöin esittelyssä Skepsis ry\, alustaa järjestön aktiivijäsen Juha Leinivaara.
URL:https://vapaa-ajattelijat.fi/tampere/tapahtuma/baari-ilta-tietokone/
LOCATION:Gastropub Nordic\, Otavalankatu 3\, Tampere\, Finland
CATEGORIES:baari-ilta
END:VEVENT
END:VCALENDAR