BEGIN:VCALENDAR
VERSION:2.0
PRODID:-//Tampereen vapaa-ajattelijat - ECPv6.15.20//NONSGML v1.0//EN
CALSCALE:GREGORIAN
METHOD:PUBLISH
X-ORIGINAL-URL:https://vapaa-ajattelijat.fi/tampere
X-WR-CALDESC:Tapahtumat Tampereen vapaa-ajattelijat
REFRESH-INTERVAL;VALUE=DURATION:PT1H
X-Robots-Tag:noindex
X-PUBLISHED-TTL:PT1H
BEGIN:VTIMEZONE
TZID:Europe/Helsinki
BEGIN:DAYLIGHT
TZOFFSETFROM:+0200
TZOFFSETTO:+0300
TZNAME:EEST
DTSTART:20200329T010000
END:DAYLIGHT
BEGIN:STANDARD
TZOFFSETFROM:+0300
TZOFFSETTO:+0200
TZNAME:EET
DTSTART:20201025T010000
END:STANDARD
BEGIN:DAYLIGHT
TZOFFSETFROM:+0200
TZOFFSETTO:+0300
TZNAME:EEST
DTSTART:20210328T010000
END:DAYLIGHT
BEGIN:STANDARD
TZOFFSETFROM:+0300
TZOFFSETTO:+0200
TZNAME:EET
DTSTART:20211031T010000
END:STANDARD
BEGIN:DAYLIGHT
TZOFFSETFROM:+0200
TZOFFSETTO:+0300
TZNAME:EEST
DTSTART:20220327T010000
END:DAYLIGHT
BEGIN:STANDARD
TZOFFSETFROM:+0300
TZOFFSETTO:+0200
TZNAME:EET
DTSTART:20221030T010000
END:STANDARD
END:VTIMEZONE
BEGIN:VEVENT
DTSTART;TZID=Europe/Helsinki:20210311T183000
DTEND;TZID=Europe/Helsinki:20210311T213000
DTSTAMP:20260423T111139
CREATED:20201120T133234Z
LAST-MODIFIED:20210310T193727Z
UID:413-1615487400-1615498200@vapaa-ajattelijat.fi
SUMMARY:"Baari-ilta" verkossa: saamelaisista
DESCRIPTION:Uskonnottomat ovat ainakin virallisissa tilastoissa vähemmistö. Siksi tasa-arvo ja vähemmistöjen asema kiinnostaa paitsi yleisesti\, myös meitä itseämme koskevana. Tällä kertaa illan aiheena on toisenlainen vähemmistö: saamelaiset. Mikä ylipäänsä on saamelaisen määritelmä? Mitä ovat saamen kielet\, miten ne Suomessa huomioidaan ja miten pitäisi huomioida? \nAiheesta alustaa saamelaisaktiivi Jan Saijets. \n\nPaikkana on poikkeuksellisesti pandemiatilanteen vuoksi yhdistyksen toimisto osoitteessa Yliopistonkatu 58 B (6. kerros). \n\nIlta esitetään myös suoratoistona verkossa ja kysymyksiä voi esittää bittipiuhan välitykselläkin: https://www.youtube.com/watch?v=5EZfM7zkrNQ \nTätä seuraava ilta pidetään torstaina 8.4.2021 ja sitä ennen on yhdistyksen vuosikokous. Tämäkin on tietysti koronavarauksella.
URL:https://vapaa-ajattelijat.fi/tampere/tapahtuma/2021-03-11/
END:VEVENT
END:VCALENDAR