BEGIN:VCALENDAR
VERSION:2.0
PRODID:-//Tampereen vapaa-ajattelijat - ECPv6.15.20//NONSGML v1.0//EN
CALSCALE:GREGORIAN
METHOD:PUBLISH
X-ORIGINAL-URL:https://vapaa-ajattelijat.fi/tampere
X-WR-CALDESC:Tapahtumat Tampereen vapaa-ajattelijat
REFRESH-INTERVAL;VALUE=DURATION:PT1H
X-Robots-Tag:noindex
X-PUBLISHED-TTL:PT1H
BEGIN:VTIMEZONE
TZID:Europe/Helsinki
BEGIN:DAYLIGHT
TZOFFSETFROM:+0200
TZOFFSETTO:+0300
TZNAME:EEST
DTSTART:20200329T010000
END:DAYLIGHT
BEGIN:STANDARD
TZOFFSETFROM:+0300
TZOFFSETTO:+0200
TZNAME:EET
DTSTART:20201025T010000
END:STANDARD
BEGIN:DAYLIGHT
TZOFFSETFROM:+0200
TZOFFSETTO:+0300
TZNAME:EEST
DTSTART:20210328T010000
END:DAYLIGHT
BEGIN:STANDARD
TZOFFSETFROM:+0300
TZOFFSETTO:+0200
TZNAME:EET
DTSTART:20211031T010000
END:STANDARD
BEGIN:DAYLIGHT
TZOFFSETFROM:+0200
TZOFFSETTO:+0300
TZNAME:EEST
DTSTART:20220327T010000
END:DAYLIGHT
BEGIN:STANDARD
TZOFFSETFROM:+0300
TZOFFSETTO:+0200
TZNAME:EET
DTSTART:20221030T010000
END:STANDARD
END:VTIMEZONE
BEGIN:VEVENT
DTSTART;TZID=Europe/Helsinki:20210211T183000
DTEND;TZID=Europe/Helsinki:20210211T213000
DTSTAMP:20260419T165651
CREATED:20201023T045401Z
LAST-MODIFIED:20210210T152326Z
UID:316-1613068200-1613079000@vapaa-ajattelijat.fi
SUMMARY:"Baari-ilta": Liberaalia teologiaa
DESCRIPTION:Vapaa-ajattelijoita syytetään yleensä Raamatun lukemisesta samalla tavalla kuin konservatiivit. Liberaalimpaa tulkintaa edustava pappi Kati Eloranta tulee torstaina 11.2.2021 vieraaksemme kertomaan omasta näkökulmastaan. \nPaikkana on poikkeuksellisesti pandemiatilanteen vuoksi yhdistyksen toimisto osoitteessa Yliopistonkatu 58 B (6. kerros). \nIlta tullaan esittämään myös suoratoistona verkossa ja kysymyksiä voi esittää bittipiuhan välitykselläkin. \nPaikkana tulevilla baari-illoilla on\, jos koronatilanne sallii\, Gastropub Nordic ja illat alkavat kello 18:30. Tiskiltä saa näinä iltoina joistakin tuotteista pienen alennuksen kun kertoo kuuluvansa meidän porukkaamme. \nTätä seuraava ilta pidetään torstaina 11.3.2021. Tämäkin on tietysti koronavarauksella. Alla olevan live striimin lisäksi baari-iltaan voi osallistua Vapaa-ajattelijoiden Discord-palvelimen Baari-kanavalla. \nhttps://www.youtube.com/watch?v=1FOpJ-2GcOI \n 
URL:https://vapaa-ajattelijat.fi/tampere/tapahtuma/baari-ilta-liberaalia-teologiaa/
CATEGORIES:baari-ilta
END:VEVENT
END:VCALENDAR