BEGIN:VCALENDAR
VERSION:2.0
PRODID:-//Tampereen vapaa-ajattelijat - ECPv6.15.20//NONSGML v1.0//EN
CALSCALE:GREGORIAN
METHOD:PUBLISH
X-ORIGINAL-URL:https://vapaa-ajattelijat.fi/tampere
X-WR-CALDESC:Tapahtumat Tampereen vapaa-ajattelijat
REFRESH-INTERVAL;VALUE=DURATION:PT1H
X-Robots-Tag:noindex
X-PUBLISHED-TTL:PT1H
BEGIN:VTIMEZONE
TZID:Europe/Helsinki
BEGIN:DAYLIGHT
TZOFFSETFROM:+0200
TZOFFSETTO:+0300
TZNAME:EEST
DTSTART:20190331T010000
END:DAYLIGHT
BEGIN:STANDARD
TZOFFSETFROM:+0300
TZOFFSETTO:+0200
TZNAME:EET
DTSTART:20191027T010000
END:STANDARD
BEGIN:DAYLIGHT
TZOFFSETFROM:+0200
TZOFFSETTO:+0300
TZNAME:EEST
DTSTART:20200329T010000
END:DAYLIGHT
BEGIN:STANDARD
TZOFFSETFROM:+0300
TZOFFSETTO:+0200
TZNAME:EET
DTSTART:20201025T010000
END:STANDARD
BEGIN:DAYLIGHT
TZOFFSETFROM:+0200
TZOFFSETTO:+0300
TZNAME:EEST
DTSTART:20210328T010000
END:DAYLIGHT
BEGIN:STANDARD
TZOFFSETFROM:+0300
TZOFFSETTO:+0200
TZNAME:EET
DTSTART:20211031T010000
END:STANDARD
END:VTIMEZONE
BEGIN:VEVENT
DTSTART;TZID=Europe/Helsinki:20201210T203000
DTEND;TZID=Europe/Helsinki:20201210T203000
DTSTAMP:20260423T161822
CREATED:20201009T015551Z
LAST-MODIFIED:20201201T053116Z
UID:53-1607632200-1607632200@vapaa-ajattelijat.fi
SUMMARY:Baari-ilta peruutettu
DESCRIPTION:Joulukuun baari-ilta oli tarkoitus pitää torstaina 10.12.2020. Se on PERUUTETTU koronan vuoksi. \nAlustajana tamperelainen veritautilääkäri Matti Vänskä\, joka on kiinnostunut mm. tutkimuksesta ja yhteiskunnallisista asioista. Hän esittelee lääketieteen tutkimuksen menetelmiä\, saavutuksia ja ongelmia yleisesti ja itselleen tuttujen verisairauksien vinkkelistä. \nPaikkana baari-illoilla on Gastropub Nordic Otavalankadulla\, löytyy Koskikeskusta vastapäätä. Aloitetaan kello 18:30\, ja meidät löytää takaosan kabinetista. Ei tarvitse ilmoittautua ennakkoon. Joistakin tuotteista saa illalla pienen alennuksen kun kertoo tiskillä olevansa vapaa-ajattelija. \nIllat jatkuvat myös ensi vuonna. 14.1.2021 kuulemme saamelaisvähemmistöstä.
URL:https://vapaa-ajattelijat.fi/tampere/tapahtuma/baari-ilta-laaketieteen-tutkimuksesta/
CATEGORIES:baari-ilta
END:VEVENT
END:VCALENDAR