BEGIN:VCALENDAR
VERSION:2.0
PRODID:-//Tampereen vapaa-ajattelijat - ECPv6.15.20//NONSGML v1.0//EN
CALSCALE:GREGORIAN
METHOD:PUBLISH
X-WR-CALNAME:Tampereen vapaa-ajattelijat
X-ORIGINAL-URL:https://vapaa-ajattelijat.fi/tampere
X-WR-CALDESC:Tapahtumat Tampereen vapaa-ajattelijat
REFRESH-INTERVAL;VALUE=DURATION:PT1H
X-Robots-Tag:noindex
X-PUBLISHED-TTL:PT1H
BEGIN:VTIMEZONE
TZID:Europe/Helsinki
BEGIN:DAYLIGHT
TZOFFSETFROM:+0200
TZOFFSETTO:+0300
TZNAME:EEST
DTSTART:20190331T010000
END:DAYLIGHT
BEGIN:STANDARD
TZOFFSETFROM:+0300
TZOFFSETTO:+0200
TZNAME:EET
DTSTART:20191027T010000
END:STANDARD
BEGIN:DAYLIGHT
TZOFFSETFROM:+0200
TZOFFSETTO:+0300
TZNAME:EEST
DTSTART:20200329T010000
END:DAYLIGHT
BEGIN:STANDARD
TZOFFSETFROM:+0300
TZOFFSETTO:+0200
TZNAME:EET
DTSTART:20201025T010000
END:STANDARD
BEGIN:DAYLIGHT
TZOFFSETFROM:+0200
TZOFFSETTO:+0300
TZNAME:EEST
DTSTART:20210328T010000
END:DAYLIGHT
BEGIN:STANDARD
TZOFFSETFROM:+0300
TZOFFSETTO:+0200
TZNAME:EET
DTSTART:20211031T010000
END:STANDARD
END:VTIMEZONE
BEGIN:VEVENT
DTSTART;TZID=Europe/Helsinki:20201112T183000
DTEND;TZID=Europe/Helsinki:20201112T213000
DTSTAMP:20260423T175940
CREATED:20201008T054647Z
LAST-MODIFIED:20201112T120931Z
UID:13-1605205800-1605216600@vapaa-ajattelijat.fi
SUMMARY:Baari-ilta: Historia 1995-2019
DESCRIPTION:Jos koronavirustilanne ja maan hallitus suovat\, pidetään marraskuun baari-ilta torstaina 12.11. Aiheena on yhdistyksen historian viimeinen kolmannes\, vuoden 1995-2019. Markoista tuli euroja\, puhelinkioskit katosivat ja kaikki ja kaikkien koirat saivan internet-yhteyden. Miten eroakirkosta.fi perustettiin\, millainen oli Pakanasanomat-lehti… Näistä ja muusta alustaa Jori Mäntysalo. \nEsitys suoratoistetaan verkkoon osoitteessa https://www.youtube.com/watch?v=wMA1A7LCnv4. \nPaikkana baari-illoilla on Gastropub Nordic Otavalankadulla\, löytyy Koskikeskusta vastapäätä. Aloitetaan kello 18:30\, ja meidät löytää takaosan kabinetista. Ei tarvitse ilmoittautua ennakkoon. Joistakin tuotteista saa illalla pienen alennuksen kun kertoo tiskillä olevansa vapaa-ajattelija. \nIllat jatkuvat kunkin kuun toisena torstaina. 10.12. kuulemme alustuksen lääketieteen tutkimuksesta.
URL:https://vapaa-ajattelijat.fi/tampere/tapahtuma/historia-1995-2019/
CATEGORIES:baari-ilta
END:VEVENT
BEGIN:VEVENT
DTSTART;TZID=Europe/Helsinki:20201124T200000
DTEND;TZID=Europe/Helsinki:20201124T213000
DTSTAMP:20260423T175940
CREATED:20201009T015314Z
LAST-MODIFIED:20201009T015314Z
UID:51-1606248000-1606253400@vapaa-ajattelijat.fi
SUMMARY:Syyskokous 2020
DESCRIPTION:Tampereen vapaa-ajattelijat ry:n vuoden 2020 syyskokous pidetään tiistaina 24.11.2020 kello 18.00 alkaen yhdistyksen toimistolla Yliopistonkatu 58 B\, 6. kerros. Poikkeuksellisesti myös etäosallistuminen on mahdollista. \nAsialistalla on seuraavan vuoden toimintasuunnitelma ja talousarvio. Valitaan myös vuoden 2021 hallitus mukaanlukien puheenjohtaja sekä toiminnantarkastaja. \nEpävirallisemmalla asialistalla on kahvinjuontia ja yleistä pulinaa vapaa-ajattelusta. \nHallituksen esitys 117/2020 laiksi väliaikaisesta poikkeamisesta osakeyhtiölaista\, osuuskuntalaista\, yhdistyslaista ja eräistä muista yhteisölaeista covid-19-epidemian leviämisen rajoittamiseksi tuli hyväksytyksi ja yhdistys käyttää tätä mahdollisuutta. Kokouksessa on siksi etäosallistumismahdollisuus vaikka sääntömme eivät sellaista tunne. \nEtäosallistuminen edellyttää ennakkoilmoittautumista 23.11.2020 kello 18.00 mennessä sähköpostilla osoitteeseen tampere@vapaa-ajattelijat.fi. Etäosallistujat saavat tarkempia ohjeita sähköpstilla viimeistään 24.11.2020 kello 12 mennessä.
URL:https://vapaa-ajattelijat.fi/tampere/tapahtuma/syyskokous-2020/
CATEGORIES:kokous
END:VEVENT
END:VCALENDAR