BEGIN:VCALENDAR
VERSION:2.0
PRODID:-//Tampereen vapaa-ajattelijat - ECPv6.15.20//NONSGML v1.0//EN
CALSCALE:GREGORIAN
METHOD:PUBLISH
X-ORIGINAL-URL:https://vapaa-ajattelijat.fi/tampere
X-WR-CALDESC:Tapahtumat Tampereen vapaa-ajattelijat
REFRESH-INTERVAL;VALUE=DURATION:PT1H
X-Robots-Tag:noindex
X-PUBLISHED-TTL:PT1H
BEGIN:VTIMEZONE
TZID:Europe/Helsinki
BEGIN:DAYLIGHT
TZOFFSETFROM:+0200
TZOFFSETTO:+0300
TZNAME:EEST
DTSTART:20250330T010000
END:DAYLIGHT
BEGIN:STANDARD
TZOFFSETFROM:+0300
TZOFFSETTO:+0200
TZNAME:EET
DTSTART:20251026T010000
END:STANDARD
BEGIN:DAYLIGHT
TZOFFSETFROM:+0200
TZOFFSETTO:+0300
TZNAME:EEST
DTSTART:20260329T010000
END:DAYLIGHT
BEGIN:STANDARD
TZOFFSETFROM:+0300
TZOFFSETTO:+0200
TZNAME:EET
DTSTART:20261025T010000
END:STANDARD
BEGIN:DAYLIGHT
TZOFFSETFROM:+0200
TZOFFSETTO:+0300
TZNAME:EEST
DTSTART:20270328T010000
END:DAYLIGHT
BEGIN:STANDARD
TZOFFSETFROM:+0300
TZOFFSETTO:+0200
TZNAME:EET
DTSTART:20271031T010000
END:STANDARD
END:VTIMEZONE
BEGIN:VEVENT
DTSTART;TZID=Europe/Helsinki:20260331T180000
DTEND;TZID=Europe/Helsinki:20260331T210000
DTSTAMP:20260419T153606
CREATED:20260212T115609Z
LAST-MODIFIED:20260212T115843Z
UID:1646-1774980000-1774990800@vapaa-ajattelijat.fi
SUMMARY:Vapaaklubi Live - Koulujen uskonnolliset tilaisuudet
DESCRIPTION:Vaikka mikään ei siihen velvoita järjestetään suomalaisissa kouluissa todella paljon uskonnollisesti tunnustuksellisia ja sitouttavia tilaisuuksia ja toimintaa. Lisäksi näistä tiedottaminen ja niille rinnakkaista\, kaikille sopivien tilaisuuksien järjestäminen on puutteellista ja syrjivää. \nKanssamme tulee aiheesta keskustelemaan Lauri Ojala\, joka itsekin kouluikäisten lasten vanhempana on saanut kokea henkilökohtaisesti miltä syrjintä tuntuu\, eikä hän ole jäänyt sen edessä toimettomaksi. \nKäsittelemme muutamia julkisuudessakin esillä olleita esimerkkitapauksia ja mietimme yhdessä ratkaisuja\, sekä tarjoamme työkaluja niille perheille\, jotka kohtaavat vakaumuksellista syrjintää kouluissa ja päiväkodissa. \nTervetuloa keskustelemaan Vapaaklubille tai seuraamaan live striimiä Youtube-kanavallamme. \nTilaisuus on kaikille avoin. Noudatamme Vapaaklubilla turvallisemman tilan periaatteita uskonnottomille.
URL:https://vapaa-ajattelijat.fi/tampere/tapahtuma/vapaaklubi-live-koulujen-uskonnolliset-tilaisuudet/
LOCATION:Vapaaklubi\, Yliopistonkatu 58 B (6. kerros)\, Tampere\, 33100
CATEGORIES:vapaaklubi-ilta
ATTACH;FMTTYPE=image/jpeg:https://vapaa-ajattelijat.fi/tampere/wp-content/uploads/sites/16/2026/02/6ouy_hnwmv8.jpg
END:VEVENT
END:VCALENDAR