BEGIN:VCALENDAR
VERSION:2.0
PRODID:-//Tampereen vapaa-ajattelijat - ECPv6.15.20//NONSGML v1.0//EN
CALSCALE:GREGORIAN
METHOD:PUBLISH
X-WR-CALNAME:Tampereen vapaa-ajattelijat
X-ORIGINAL-URL:https://vapaa-ajattelijat.fi/tampere
X-WR-CALDESC:Tapahtumat Tampereen vapaa-ajattelijat
REFRESH-INTERVAL;VALUE=DURATION:PT1H
X-Robots-Tag:noindex
X-PUBLISHED-TTL:PT1H
BEGIN:VTIMEZONE
TZID:Europe/Helsinki
BEGIN:DAYLIGHT
TZOFFSETFROM:+0200
TZOFFSETTO:+0300
TZNAME:EEST
DTSTART:20210328T010000
END:DAYLIGHT
BEGIN:STANDARD
TZOFFSETFROM:+0300
TZOFFSETTO:+0200
TZNAME:EET
DTSTART:20211031T010000
END:STANDARD
BEGIN:DAYLIGHT
TZOFFSETFROM:+0200
TZOFFSETTO:+0300
TZNAME:EEST
DTSTART:20220327T010000
END:DAYLIGHT
BEGIN:STANDARD
TZOFFSETFROM:+0300
TZOFFSETTO:+0200
TZNAME:EET
DTSTART:20221030T010000
END:STANDARD
BEGIN:DAYLIGHT
TZOFFSETFROM:+0200
TZOFFSETTO:+0300
TZNAME:EEST
DTSTART:20230326T010000
END:DAYLIGHT
BEGIN:STANDARD
TZOFFSETFROM:+0300
TZOFFSETTO:+0200
TZNAME:EET
DTSTART:20231029T010000
END:STANDARD
END:VTIMEZONE
BEGIN:VEVENT
DTSTART;TZID=Europe/Helsinki:20220514T110000
DTEND;TZID=Europe/Helsinki:20220514T160000
DTSTAMP:20260420T135421
CREATED:20220429T164038Z
LAST-MODIFIED:20220429T164038Z
UID:669-1652526000-1652544000@vapaa-ajattelijat.fi
SUMMARY:Hämeenlinnassa luontoretki
DESCRIPTION:Tampereen vapaa-ajattelijat järjestää luontoretken Hämeenlinnan Evon retkeilyalueella lauantaina 14.5.2022. Kokoontuminen kello 11 Ruuhijärventien ja Padasjoentien risteyksen pysäköintialueella. \nOhjelmassa ensin kävely Luutajoen Taimenpolulla (2 km\, helppokulkuinen). Sitten siirtyminen (5 km) autolla Aliselle Niemisjärvelle\, jossa makkaranpaistoa ja kävely viereisellä luontopolulla (3 km\, korkeuseroja). Takaisin palataan valoisaan aikaan. \nYhdistys tarjoaa makkarat ja sinapit — tämän ja mahdollisten viime hetken muutosten vuoksi ilmoittaudu viimeistään edellisenä päivänä osoitteeseen tampere@vapaa-ajattelijat.fi.
URL:https://vapaa-ajattelijat.fi/tampere/tapahtuma/luontoretki-evo/
CATEGORIES:luontoretki
END:VEVENT
END:VCALENDAR