BEGIN:VCALENDAR
VERSION:2.0
PRODID:-//Tampereen vapaa-ajattelijat - ECPv6.15.20//NONSGML v1.0//EN
CALSCALE:GREGORIAN
METHOD:PUBLISH
X-ORIGINAL-URL:https://vapaa-ajattelijat.fi/tampere
X-WR-CALDESC:Tapahtumat Tampereen vapaa-ajattelijat
REFRESH-INTERVAL;VALUE=DURATION:PT1H
X-Robots-Tag:noindex
X-PUBLISHED-TTL:PT1H
BEGIN:VTIMEZONE
TZID:Europe/Helsinki
BEGIN:DAYLIGHT
TZOFFSETFROM:+0200
TZOFFSETTO:+0300
TZNAME:EEST
DTSTART:20210328T010000
END:DAYLIGHT
BEGIN:STANDARD
TZOFFSETFROM:+0300
TZOFFSETTO:+0200
TZNAME:EET
DTSTART:20211031T010000
END:STANDARD
BEGIN:DAYLIGHT
TZOFFSETFROM:+0200
TZOFFSETTO:+0300
TZNAME:EEST
DTSTART:20220327T010000
END:DAYLIGHT
BEGIN:STANDARD
TZOFFSETFROM:+0300
TZOFFSETTO:+0200
TZNAME:EET
DTSTART:20221030T010000
END:STANDARD
BEGIN:DAYLIGHT
TZOFFSETFROM:+0200
TZOFFSETTO:+0300
TZNAME:EEST
DTSTART:20230326T010000
END:DAYLIGHT
BEGIN:STANDARD
TZOFFSETFROM:+0300
TZOFFSETTO:+0200
TZNAME:EET
DTSTART:20231029T010000
END:STANDARD
END:VTIMEZONE
BEGIN:VEVENT
DTSTART;TZID=Europe/Helsinki:20220505T180000
DTEND;TZID=Europe/Helsinki:20220505T210000
DTSTAMP:20260420T134906
CREATED:20220426T055709Z
LAST-MODIFIED:20220526T063540Z
UID:666-1651773600-1651784400@vapaa-ajattelijat.fi
SUMMARY:Juhlan aika - elämänkaaren siviilijuhlat
DESCRIPTION:Uskonnoton juhlapuhuja Laura Mäntysalo Pro-Seremonioista kertoo perhejuhlien merkityksestä ja vinkkejä niiden järjestämiseen uskonnottomasti. Elämänkaaren käännekohdissa – syntymässä\, aikuistumisessa\, rakkaussuhteen solmimisessa ja kuolemassa\, mutta ehkä myös muissa? Pohditaan yhdessä ja muistellaan mieleenpainuvimpia juhliamme. Laura kertoo myös puhujan työstä halukkaille. \nTämä tapahtuma on 5.5.2022\, jatkona neljän viikon välein pidetyille baari-illoille. Paikkana ei tällä kertaa ole baari\, vaan uudistettu toimitila\, jota kutsummekin nykyään toimiston sijaan Vapaaklubiksi. Se löytyy osoitteesta Yliopistonkatu 58 B\, 6. kerroksesta. \nAlustus alkaa kello 18:30\, mutta paikalla on väkeä jo 18:00. \nSeuraava alustettu tapaaminen on 2.6. eli neljä viikkoa tämän jälkeen.
URL:https://vapaa-ajattelijat.fi/tampere/tapahtuma/elamankaaren-siviilijuhlat/
CATEGORIES:vapaaklubi-ilta
END:VEVENT
END:VCALENDAR