BEGIN:VCALENDAR
VERSION:2.0
PRODID:-//Tampereen vapaa-ajattelijat - ECPv6.15.20//NONSGML v1.0//EN
CALSCALE:GREGORIAN
METHOD:PUBLISH
X-ORIGINAL-URL:https://vapaa-ajattelijat.fi/tampere
X-WR-CALDESC:Tapahtumat Tampereen vapaa-ajattelijat
REFRESH-INTERVAL;VALUE=DURATION:PT1H
X-Robots-Tag:noindex
X-PUBLISHED-TTL:PT1H
BEGIN:VTIMEZONE
TZID:Europe/Helsinki
BEGIN:DAYLIGHT
TZOFFSETFROM:+0200
TZOFFSETTO:+0300
TZNAME:EEST
DTSTART:20200329T010000
END:DAYLIGHT
BEGIN:STANDARD
TZOFFSETFROM:+0300
TZOFFSETTO:+0200
TZNAME:EET
DTSTART:20201025T010000
END:STANDARD
BEGIN:DAYLIGHT
TZOFFSETFROM:+0200
TZOFFSETTO:+0300
TZNAME:EEST
DTSTART:20210328T010000
END:DAYLIGHT
BEGIN:STANDARD
TZOFFSETFROM:+0300
TZOFFSETTO:+0200
TZNAME:EET
DTSTART:20211031T010000
END:STANDARD
BEGIN:DAYLIGHT
TZOFFSETFROM:+0200
TZOFFSETTO:+0300
TZNAME:EEST
DTSTART:20220327T010000
END:DAYLIGHT
BEGIN:STANDARD
TZOFFSETFROM:+0300
TZOFFSETTO:+0200
TZNAME:EET
DTSTART:20221030T010000
END:STANDARD
END:VTIMEZONE
BEGIN:VEVENT
DTSTART;TZID=Europe/Helsinki:20211215T180000
DTEND;TZID=Europe/Helsinki:20211215T220000
DTSTAMP:20260422T195647
CREATED:20210922T183221Z
LAST-MODIFIED:20211205T101407Z
UID:560-1639591200-1639605600@vapaa-ajattelijat.fi
SUMMARY:Vuosikokous\, glögiä ja piparia
DESCRIPTION:Yhdistyksen mitä virallisin vuosikokous pidetään keskiviikkona 15.12.2021 kello 18.00 alkaen yhdistyksen toimistolla. Asialistalla ”sääntömääräiset asiat” eli käytännössä tulevan vuoden hallituksen valinta + talousarvio ja toimintasuunnitelma. \nKokouksen jälkeen pientä tai ehkä jopa keskikokoista tarjoilua.
URL:https://vapaa-ajattelijat.fi/tampere/tapahtuma/vuosikokous-glogia-ja-piparia/
LOCATION:Vapaaklubi\, Yliopistonkatu 58 B (6. kerros)\, Tampere\, 33100
CATEGORIES:kokous
END:VEVENT
END:VCALENDAR