BEGIN:VCALENDAR
VERSION:2.0
PRODID:-//Tampereen vapaa-ajattelijat - ECPv6.15.20//NONSGML v1.0//EN
CALSCALE:GREGORIAN
METHOD:PUBLISH
X-WR-CALNAME:Tampereen vapaa-ajattelijat
X-ORIGINAL-URL:https://vapaa-ajattelijat.fi/tampere
X-WR-CALDESC:Tapahtumat Tampereen vapaa-ajattelijat
REFRESH-INTERVAL;VALUE=DURATION:PT1H
X-Robots-Tag:noindex
X-PUBLISHED-TTL:PT1H
BEGIN:VTIMEZONE
TZID:Europe/Helsinki
BEGIN:DAYLIGHT
TZOFFSETFROM:+0200
TZOFFSETTO:+0300
TZNAME:EEST
DTSTART:20200329T010000
END:DAYLIGHT
BEGIN:STANDARD
TZOFFSETFROM:+0300
TZOFFSETTO:+0200
TZNAME:EET
DTSTART:20201025T010000
END:STANDARD
BEGIN:DAYLIGHT
TZOFFSETFROM:+0200
TZOFFSETTO:+0300
TZNAME:EEST
DTSTART:20210328T010000
END:DAYLIGHT
BEGIN:STANDARD
TZOFFSETFROM:+0300
TZOFFSETTO:+0200
TZNAME:EET
DTSTART:20211031T010000
END:STANDARD
BEGIN:DAYLIGHT
TZOFFSETFROM:+0200
TZOFFSETTO:+0300
TZNAME:EEST
DTSTART:20220327T010000
END:DAYLIGHT
BEGIN:STANDARD
TZOFFSETFROM:+0300
TZOFFSETTO:+0200
TZNAME:EET
DTSTART:20221030T010000
END:STANDARD
END:VTIMEZONE
BEGIN:VEVENT
DTSTART;TZID=Europe/Helsinki:20211104T180000
DTEND;TZID=Europe/Helsinki:20211104T203000
DTSTAMP:20260422T214824
CREATED:20210706T150312Z
LAST-MODIFIED:20211025T064951Z
UID:523-1636048800-1636057800@vapaa-ajattelijat.fi
SUMMARY:Baari-ilta: Lääketieteen tutkimuksesta
DESCRIPTION:Marraskuun baari-illassa aiheena Tutkimus lääkekehityksen taustalla ja vilkaisu muutamin uusiin syövän hoitomuotoiihin. Alustajana Matti Vänskä. \nBaari on varattu kello 18 alkaen\, alustus alkaa 18:30. Poikkeuksellisesti esitys tapahtuu etäyhteyden kautta\, läsnäolijat paikan päällä. \nTätä seuraava neljän viikon kuluttua\, aiheena silloin uskoon tulleet ex-rikolliset. \nPaikka illoilla Gastropub Nordic Otavalankadulla\, löytyy Koskikeskusta vastapäätä. Meidät löytää baarin takaosan kabinetista. Ei tarvitse ilmoittautua ennakkoon. Joistakin tuotteista saa illalla pienen alennuksen kun kertoo tiskillä olevansa vapaa-ajattelija.
URL:https://vapaa-ajattelijat.fi/tampere/tapahtuma/baari-ilta-laaketiede/
CATEGORIES:baari-ilta
END:VEVENT
END:VCALENDAR