BEGIN:VCALENDAR
VERSION:2.0
PRODID:-//Tampereen vapaa-ajattelijat - ECPv6.15.20//NONSGML v1.0//EN
CALSCALE:GREGORIAN
METHOD:PUBLISH
X-ORIGINAL-URL:https://vapaa-ajattelijat.fi/tampere
X-WR-CALDESC:Tapahtumat Tampereen vapaa-ajattelijat
REFRESH-INTERVAL;VALUE=DURATION:PT1H
X-Robots-Tag:noindex
X-PUBLISHED-TTL:PT1H
BEGIN:VTIMEZONE
TZID:Europe/Helsinki
BEGIN:DAYLIGHT
TZOFFSETFROM:+0200
TZOFFSETTO:+0300
TZNAME:EEST
DTSTART:20200329T010000
END:DAYLIGHT
BEGIN:STANDARD
TZOFFSETFROM:+0300
TZOFFSETTO:+0200
TZNAME:EET
DTSTART:20201025T010000
END:STANDARD
BEGIN:DAYLIGHT
TZOFFSETFROM:+0200
TZOFFSETTO:+0300
TZNAME:EEST
DTSTART:20210328T010000
END:DAYLIGHT
BEGIN:STANDARD
TZOFFSETFROM:+0300
TZOFFSETTO:+0200
TZNAME:EET
DTSTART:20211031T010000
END:STANDARD
BEGIN:DAYLIGHT
TZOFFSETFROM:+0200
TZOFFSETTO:+0300
TZNAME:EEST
DTSTART:20220327T010000
END:DAYLIGHT
BEGIN:STANDARD
TZOFFSETFROM:+0300
TZOFFSETTO:+0200
TZNAME:EET
DTSTART:20221030T010000
END:STANDARD
END:VTIMEZONE
BEGIN:VEVENT
DTSTART;TZID=Europe/Helsinki:20210710T140000
DTEND;TZID=Europe/Helsinki:20210711T120000
DTSTAMP:20260419T154134
CREATED:20210128T055545Z
LAST-MODIFIED:20210627T083909Z
UID:440-1625925600-1626004800@vapaa-ajattelijat.fi
SUMMARY:Metsäretki Helvetinjärvellä
DESCRIPTION:Lauantaina 10. heinäkuuta lähdemme metsään. Kohteena Helvetinjärjen kansallispuisto\, josta olemme varanneet Hiedan majan. Kävellään enemmän tai vähemmän huvittamisen mukaan ja syödään. Yöksikin saa jäädä.
URL:https://vapaa-ajattelijat.fi/tampere/tapahtuma/metsaretki-helvetinjarvella/
CATEGORIES:luontoretki
END:VEVENT
END:VCALENDAR