BEGIN:VCALENDAR
VERSION:2.0
PRODID:-//Tampereen vapaa-ajattelijat - ECPv6.15.20//NONSGML v1.0//EN
CALSCALE:GREGORIAN
METHOD:PUBLISH
X-WR-CALNAME:Tampereen vapaa-ajattelijat
X-ORIGINAL-URL:https://vapaa-ajattelijat.fi/tampere
X-WR-CALDESC:Tapahtumat Tampereen vapaa-ajattelijat
REFRESH-INTERVAL;VALUE=DURATION:PT1H
X-Robots-Tag:noindex
X-PUBLISHED-TTL:PT1H
BEGIN:VTIMEZONE
TZID:Europe/Helsinki
BEGIN:DAYLIGHT
TZOFFSETFROM:+0200
TZOFFSETTO:+0300
TZNAME:EEST
DTSTART:20200329T010000
END:DAYLIGHT
BEGIN:STANDARD
TZOFFSETFROM:+0300
TZOFFSETTO:+0200
TZNAME:EET
DTSTART:20201025T010000
END:STANDARD
BEGIN:DAYLIGHT
TZOFFSETFROM:+0200
TZOFFSETTO:+0300
TZNAME:EEST
DTSTART:20210328T010000
END:DAYLIGHT
BEGIN:STANDARD
TZOFFSETFROM:+0300
TZOFFSETTO:+0200
TZNAME:EET
DTSTART:20211031T010000
END:STANDARD
BEGIN:DAYLIGHT
TZOFFSETFROM:+0200
TZOFFSETTO:+0300
TZNAME:EEST
DTSTART:20220327T010000
END:DAYLIGHT
BEGIN:STANDARD
TZOFFSETFROM:+0300
TZOFFSETTO:+0200
TZNAME:EET
DTSTART:20221030T010000
END:STANDARD
END:VTIMEZONE
BEGIN:VEVENT
DTSTART;TZID=Europe/Helsinki:20210618T160000
DTEND;TZID=Europe/Helsinki:20210618T190000
DTSTAMP:20260423T065731
CREATED:20210617T144153Z
LAST-MODIFIED:20210617T144316Z
UID:502-1624032000-1624042800@vapaa-ajattelijat.fi
SUMMARY:Pakanat puistossa
DESCRIPTION:Päätimme kokoontua piknikille Koskipuistoon perjantaina 18.6.2021 klo 16 eteenpäin rennolla otteella! Kaikki kynnelle kykenevät ovat tervetulleita mukaan rennon asenteen\, omien eväiden ja juomien kera \n\nOtamme mukaan vilttejä ja musiikkia niin saadaan mukava tunnelma puistoiluun. Olemme myös valmiita höpöttämään vapaa-ajattelusta muidenkin kiinnostuneiden kanssa.
URL:https://vapaa-ajattelijat.fi/tampere/tapahtuma/pakanat-puistossa/
CATEGORIES:piknik
END:VEVENT
END:VCALENDAR