BEGIN:VCALENDAR
VERSION:2.0
PRODID:-//Keski-Uudenmaan Vapaa-ajattelijat - ECPv6.15.20//NONSGML v1.0//EN
CALSCALE:GREGORIAN
METHOD:PUBLISH
X-ORIGINAL-URL:https://vapaa-ajattelijat.fi/keski-uusimaa
X-WR-CALDESC:Tapahtumat Keski-Uudenmaan Vapaa-ajattelijat
REFRESH-INTERVAL;VALUE=DURATION:PT1H
X-Robots-Tag:noindex
X-PUBLISHED-TTL:PT1H
BEGIN:VTIMEZONE
TZID:Europe/Helsinki
BEGIN:DAYLIGHT
TZOFFSETFROM:+0200
TZOFFSETTO:+0300
TZNAME:EEST
DTSTART:20230326T010000
END:DAYLIGHT
BEGIN:STANDARD
TZOFFSETFROM:+0300
TZOFFSETTO:+0200
TZNAME:EET
DTSTART:20231029T010000
END:STANDARD
BEGIN:DAYLIGHT
TZOFFSETFROM:+0200
TZOFFSETTO:+0300
TZNAME:EEST
DTSTART:20240331T010000
END:DAYLIGHT
BEGIN:STANDARD
TZOFFSETFROM:+0300
TZOFFSETTO:+0200
TZNAME:EET
DTSTART:20241027T010000
END:STANDARD
BEGIN:DAYLIGHT
TZOFFSETFROM:+0200
TZOFFSETTO:+0300
TZNAME:EEST
DTSTART:20250330T010000
END:DAYLIGHT
BEGIN:STANDARD
TZOFFSETFROM:+0300
TZOFFSETTO:+0200
TZNAME:EET
DTSTART:20251026T010000
END:STANDARD
BEGIN:DAYLIGHT
TZOFFSETFROM:+0200
TZOFFSETTO:+0300
TZNAME:EEST
DTSTART:20260329T010000
END:DAYLIGHT
BEGIN:STANDARD
TZOFFSETFROM:+0300
TZOFFSETTO:+0200
TZNAME:EET
DTSTART:20261025T010000
END:STANDARD
END:VTIMEZONE
BEGIN:VEVENT
DTSTART;VALUE=DATE:20251005
DTEND;VALUE=DATE:20251006
DTSTAMP:20260420T003656
CREATED:20250929T082902Z
LAST-MODIFIED:20250929T082902Z
UID:312-1759622400-1759708799@vapaa-ajattelijat.fi
SUMMARY:Keski-Uudenmaan Vapaa-ajattelijat 80 vuotta 5.10.2025
DESCRIPTION:Ei vastaanottoa
URL:https://vapaa-ajattelijat.fi/keski-uusimaa/tapahtuma/keski-uudenmaan-vapaa-ajattelijat-80-vuotta-5-10-2025/
LOCATION:Verkossa
END:VEVENT
BEGIN:VEVENT
DTSTART;TZID=Europe/Helsinki:20250610T180000
DTEND;TZID=Europe/Helsinki:20250610T200000
DTSTAMP:20260420T003656
CREATED:20240326T150859Z
LAST-MODIFIED:20250522T153815Z
UID:230-1749578400-1749585600@vapaa-ajattelijat.fi
SUMMARY:Keski-Uusimaa Vuosikokous
DESCRIPTION:Tavoitteemme lähtevät nimenomaan humanistisista arvoista ja toisena tavoitteena on tieteellisen maailmankuvan voittokulun edistäminen eli luonnontieteiden fysiikan\, kemian\, tähtitieteen\, geologian ja biologian löydösten esilletuominen uskonnollisten epätieteellisten käsitysten hälventämiseksi.  Lisäksi meitä kiinnostaa suomalaiseen lainansäädäntöön vaikuttaminen ja varmistaa lakien toteutuminen. \nTällä kertaa Suomen Vapaa-ajattelijoiden puheenjohtaja Jori Mäntysalo esitelmöi aiheesta    Uskonnonvapaus Suomessa \nKeski-Uudenmaan Vapaa-ajattelijat ry vuosikokous \n\nAvaus\, 2. Kokousvirkailijat\, 3. Laillisuus\, 4. Työjärjestys\nToimintakertomus\, Linkki\nTilinpäätös ja tilintarkastajien lausunto\nPäätetään tilinpäätöksen vahvistamisesta ja vastuuvapauden myöntämisestä\nToimintasuunnitelman muokkaus\nPäätetään jäsenmaksun suuruudesta\, esitys 25€\nPäätetään tulo- ja menoarviosta\nVoidaan päättää hallituksen täydentämisestä\nMuut asiat\nPäätetään kokous.
URL:https://vapaa-ajattelijat.fi/keski-uusimaa/tapahtuma/keski-uusimaa-vuosikokous/
LOCATION:Tilaustila\, Järvenpää\, Järnefeltinkatu 9E\, Järvenpää
END:VEVENT
BEGIN:VEVENT
DTSTART;TZID=Europe/Helsinki:20240924T190000
DTEND;TZID=Europe/Helsinki:20240924T210000
DTSTAMP:20260420T003656
CREATED:20240904T065912Z
LAST-MODIFIED:20240904T065912Z
UID:249-1727204400-1727211600@vapaa-ajattelijat.fi
SUMMARY:KU Vapaa-ajattelijat\, kokous 24.9. klo 19:00
DESCRIPTION:Aiheita ainakin:\n\n Henrik Sawela /ProSeremoniat/Tuusula olisi tulossa vierailulle ja selittämään  ProSeremonia aiheita.\nHenrik  voinee kertoa myös Humanistiliiton taustaa.\n\n\nSitten pidettäisiin normaali hallituksen kokous aiheina\n\n\nvahvistetaan työnjako\n\n\njäsenmaksutilanne yms. jäsenasiat\n\n\notetaan kantaa Risto Puumalaisen kirjaan eli osallistuuko yhdistys jotenkin (katso liite).  Risto Puumalainen\, liittohallituksessakin vaikuttava Keski-Suomen yhdistyksen aktiivi\, on kirjoittanut kirjan Uskomatonta elämää Suomessa. Se on ennakkotilattavissa\, tarkemmat tiedot liitteenä.\n\n\nja oliko muitakin aiheita toimintasuunnitelmaan yms. liittyen
URL:https://vapaa-ajattelijat.fi/keski-uusimaa/tapahtuma/ku-vapaa-ajattelijat-kokous-24-9-klo-1900/
LOCATION:Tilaustila\, Järvenpää\, Järnefeltinkatu 9E\, Järvenpää
END:VEVENT
BEGIN:VEVENT
DTSTART;TZID=Europe/Helsinki:20240511T100000
DTEND;TZID=Europe/Helsinki:20240511T120000
DTSTAMP:20260420T003656
CREATED:20240509T154637Z
LAST-MODIFIED:20240509T154637Z
UID:245-1715421600-1715428800@vapaa-ajattelijat.fi
SUMMARY:Karkkilan Vapaa-ajattelijat tapaaminen
DESCRIPTION:Kutsuivat meitä vierailemaan heidän tapahtumassa Hautausmaalla\, Kappelitie
URL:https://vapaa-ajattelijat.fi/keski-uusimaa/tapahtuma/karkkilan-vapaa-ajattelijat-tapaaminen/
LOCATION:Karkkila\, Kappelitie\, Karkkila
ORGANIZER;CN="kari.ranta@hotmail.com":MAILTO:kari.ranta@hotmail.com
END:VEVENT
END:VCALENDAR